Package: AMARETTO Version: 1.27.0 Command: /home/biocbuild/bbs-3.23-bioc/R/bin/R CMD INSTALL AMARETTO StartedAt: 2025-11-11 16:01:26 -0500 (Tue, 11 Nov 2025) EndedAt: 2025-11-11 16:02:01 -0500 (Tue, 11 Nov 2025) EllapsedTime: 35.3 seconds RetCode: 0 Status: OK