Package: AMARETTO Version: 1.27.0 Command: /home/biocbuild/bbs-3.23-bioc/R/bin/R CMD build --keep-empty-dirs --no-resave-data AMARETTO StartedAt: 2025-11-11 16:14:17 -0500 (Tue, 11 Nov 2025) EndedAt: 2025-11-11 16:15:13 -0500 (Tue, 11 Nov 2025) EllapsedTime: 56.1 seconds RetCode: 0 Status: OK PackageFile: AMARETTO_1.27.0.tar.gz PackageFileSize: 3.225 MiB