Package: AMARETTO Version: 1.25.0 Command: /Library/Frameworks/R.framework/Resources/bin/R CMD INSTALL AMARETTO StartedAt: 2025-10-14 15:47:40 -0400 (Tue, 14 Oct 2025) EndedAt: 2025-10-14 15:48:31 -0400 (Tue, 14 Oct 2025) EllapsedTime: 50.7 seconds RetCode: 0 Status: OK