Package: AMARETTO Version: 1.25.0 Command: /Library/Frameworks/R.framework/Resources/bin/R CMD INSTALL AMARETTO StartedAt: 2025-10-05 15:30:48 -0400 (Sun, 05 Oct 2025) EndedAt: 2025-10-05 15:31:03 -0400 (Sun, 05 Oct 2025) EllapsedTime: 14.6 seconds RetCode: 0 Status: OK