Package: AMARETTO Version: 1.25.0 Command: rm -rf AMARETTO.buildbin-libdir && mkdir AMARETTO.buildbin-libdir && /Users/biocbuild/BBS/utils/build-universal.sh AMARETTO_1.25.0.tar.gz /Library/Frameworks/R.framework/Resources/bin/R AMARETTO.buildbin-libdir StartedAt: 2025-10-05 22:34:04 -0400 (Sun, 05 Oct 2025) EndedAt: 2025-10-05 22:34:20 -0400 (Sun, 05 Oct 2025) EllapsedTime: 15.5 seconds RetCode: 0 Status: OK PackageFile: AMARETTO_1.25.0.tgz PackageFileSize: 3.468 MiB