Package: AMARETTO Version: 1.27.0 Maintainer: Olivier Gevaert MaintainerEmail: olivier.gevaert at gmail.com git_url: https://git.bioconductor.org/packages/AMARETTO git_branch: devel git_last_commit: 87c41a4 git_last_commit_date: 2025-10-29 10:50:47 -0400 (Wed, 29 Oct 2025)