Package: ALDEx2 Version: 1.41.0 Command: /home/biocbuild/R/R/bin/R CMD INSTALL ALDEx2 StartedAt: 2025-10-23 20:36:47 -0000 (Thu, 23 Oct 2025) EndedAt: 2025-10-23 20:37:19 -0000 (Thu, 23 Oct 2025) EllapsedTime: 31.3 seconds RetCode: 0 Status: OK