Package: ALDEx2 Version: 1.41.0 Command: /home/biocbuild/R/R/bin/R CMD build --keep-empty-dirs --no-resave-data ALDEx2 StartedAt: 2025-10-23 21:40:03 -0000 (Thu, 23 Oct 2025) EndedAt: 2025-10-23 21:42:27 -0000 (Thu, 23 Oct 2025) EllapsedTime: 144.1 seconds RetCode: 0 Status: OK PackageFile: ALDEx2_1.41.0.tar.gz PackageFileSize: 2.29 MiB