Package: ALDEx2 Version: 1.41.0 Command: /home/biocbuild/bbs-3.22-bioc/R/bin/R CMD check --install=check:ALDEx2.install-out.txt --library=/home/biocbuild/bbs-3.22-bioc/R/site-library --timings ALDEx2_1.41.0.tar.gz StartedAt: 2025-10-20 20:54:43 -0400 (Mon, 20 Oct 2025) EndedAt: 2025-10-20 20:59:45 -0400 (Mon, 20 Oct 2025) EllapsedTime: 302.3 seconds RetCode: 0 Status: OK CheckDir: ALDEx2.Rcheck Warnings: 0