Package: ALDEx2 Version: 1.43.0 Command: /home/biocbuild/bbs-3.23-bioc/R/bin/R CMD build --keep-empty-dirs --no-resave-data ALDEx2 StartedAt: 2025-11-05 16:16:20 -0500 (Wed, 05 Nov 2025) EndedAt: 2025-11-05 16:18:02 -0500 (Wed, 05 Nov 2025) EllapsedTime: 102.1 seconds RetCode: 0 Status: OK PackageFile: ALDEx2_1.43.0.tar.gz PackageFileSize: 3.03 MiB