Package: ALDEx2 Version: 1.41.0 Command: /Library/Frameworks/R.framework/Resources/bin/R CMD INSTALL ALDEx2 StartedAt: 2025-10-02 15:18:55 -0400 (Thu, 02 Oct 2025) EndedAt: 2025-10-02 15:19:28 -0400 (Thu, 02 Oct 2025) EllapsedTime: 32.6 seconds RetCode: 0 Status: OK