Package: ALDEx2 Version: 1.41.0 Command: /Library/Frameworks/R.framework/Resources/bin/R CMD build --keep-empty-dirs --no-resave-data ALDEx2 StartedAt: 2025-10-02 15:59:02 -0400 (Thu, 02 Oct 2025) EndedAt: 2025-10-02 16:01:04 -0400 (Thu, 02 Oct 2025) EllapsedTime: 121.3 seconds RetCode: 0 Status: OK PackageFile: ALDEx2_1.41.0.tar.gz PackageFileSize: 3.091 MiB