Package: ALDEx2 Version: 1.41.0 Command: rm -rf ALDEx2.buildbin-libdir && mkdir ALDEx2.buildbin-libdir && /Users/biocbuild/BBS/utils/build-universal.sh ALDEx2_1.41.0.tar.gz /Library/Frameworks/R.framework/Resources/bin/R ALDEx2.buildbin-libdir StartedAt: 2025-10-04 01:52:25 -0400 (Sat, 04 Oct 2025) EndedAt: 2025-10-04 01:53:02 -0400 (Sat, 04 Oct 2025) EllapsedTime: 37.0 seconds RetCode: 0 Status: OK PackageFile: ALDEx2_1.41.0.tgz PackageFileSize: 2.747 MiB