Package: AIMS Version: 1.41.0 Command: /home/biocbuild/bbs-3.22-bioc/R/bin/R CMD check --install=check:AIMS.install-out.txt --library=/home/biocbuild/bbs-3.22-bioc/R/site-library --timings AIMS_1.41.0.tar.gz StartedAt: 2025-10-21 20:56:49 -0400 (Tue, 21 Oct 2025) EndedAt: 2025-10-21 20:57:25 -0400 (Tue, 21 Oct 2025) EllapsedTime: 36.1 seconds RetCode: 0 Status: OK CheckDir: AIMS.Rcheck Warnings: 0