Package: AIMS Version: 1.43.0 Command: /home/biocbuild/bbs-3.23-bioc/R/bin/R CMD INSTALL AIMS StartedAt: 2025-11-02 15:19:13 -0500 (Sun, 02 Nov 2025) EndedAt: 2025-11-02 15:19:15 -0500 (Sun, 02 Nov 2025) EllapsedTime: 2.7 seconds RetCode: 0 Status: OK