Package: AIMS Version: 1.43.0 Command: /home/biocbuild/bbs-3.23-bioc/R/bin/R CMD build --keep-empty-dirs --no-resave-data AIMS StartedAt: 2025-11-03 16:07:58 -0500 (Mon, 03 Nov 2025) EndedAt: 2025-11-03 16:08:13 -0500 (Mon, 03 Nov 2025) EllapsedTime: 15.0 seconds RetCode: 0 Status: OK PackageFile: AIMS_1.43.0.tar.gz PackageFileSize: 485.4 KiB