Package: AIMS Version: 1.41.0 Command: /Library/Frameworks/R.framework/Resources/bin/R CMD INSTALL AIMS StartedAt: 2025-09-30 15:14:27 -0400 (Tue, 30 Sep 2025) EndedAt: 2025-09-30 15:14:33 -0400 (Tue, 30 Sep 2025) EllapsedTime: 5.5 seconds RetCode: 0 Status: OK