Package: AIMS Version: 1.41.0 Command: /Library/Frameworks/R.framework/Resources/bin/R CMD build --keep-empty-dirs --no-resave-data AIMS StartedAt: 2025-09-30 15:58:18 -0400 (Tue, 30 Sep 2025) EndedAt: 2025-09-30 15:58:40 -0400 (Tue, 30 Sep 2025) EllapsedTime: 21.8 seconds RetCode: 0 Status: OK PackageFile: AIMS_1.41.0.tar.gz PackageFileSize: 484.2 KiB