Package: AIMS Version: 1.41.0 Command: rm -rf AIMS.buildbin-libdir && mkdir AIMS.buildbin-libdir && /Users/biocbuild/BBS/utils/build-universal.sh AIMS_1.41.0.tar.gz /Library/Frameworks/R.framework/Resources/bin/R AIMS.buildbin-libdir StartedAt: 2025-10-01 01:29:23 -0400 (Wed, 01 Oct 2025) EndedAt: 2025-10-01 01:29:32 -0400 (Wed, 01 Oct 2025) EllapsedTime: 9.3 seconds RetCode: 0 Status: OK PackageFile: AIMS_1.41.0.tgz PackageFileSize: 501 KiB