Package: AHMassBank Version: 1.9.0 Command: /home/biocbuild/bbs-3.22-bioc/R/bin/R CMD INSTALL AHMassBank StartedAt: 2025-10-01 15:48:59 -0400 (Wed, 01 Oct 2025) EndedAt: 2025-10-01 15:49:47 -0400 (Wed, 01 Oct 2025) EllapsedTime: 48.2 seconds RetCode: 0 Status: OK