Package: AGDEX Version: 1.59.0 Command: /home/biocbuild/bbs-3.23-bioc/R/bin/R CMD INSTALL AGDEX StartedAt: 2025-10-31 15:39:56 -0400 (Fri, 31 Oct 2025) EndedAt: 2025-10-31 15:40:11 -0400 (Fri, 31 Oct 2025) EllapsedTime: 15.0 seconds RetCode: 0 Status: OK