Package: AGDEX Version: 1.59.0 Command: /home/biocbuild/bbs-3.23-bioc/R/bin/R CMD build --keep-empty-dirs --no-resave-data AGDEX StartedAt: 2025-10-31 16:25:25 -0400 (Fri, 31 Oct 2025) EndedAt: 2025-10-31 16:25:47 -0400 (Fri, 31 Oct 2025) EllapsedTime: 22.0 seconds RetCode: 0 Status: OK PackageFile: AGDEX_1.59.0.tar.gz PackageFileSize: 486.9 KiB