Package: AGDEX Version: 1.59.0 Command: /Library/Frameworks/R.framework/Resources/bin/R CMD INSTALL AGDEX StartedAt: 2025-11-21 15:30:47 -0500 (Fri, 21 Nov 2025) EndedAt: 2025-11-21 15:31:07 -0500 (Fri, 21 Nov 2025) EllapsedTime: 20.8 seconds RetCode: 0 Status: OK