Package: AGDEX Version: 1.59.0 Command: /Library/Frameworks/R.framework/Resources/bin/R CMD build --keep-empty-dirs --no-resave-data AGDEX StartedAt: 2025-11-20 16:02:38 -0500 (Thu, 20 Nov 2025) EndedAt: 2025-11-20 16:03:07 -0500 (Thu, 20 Nov 2025) EllapsedTime: 28.6 seconds RetCode: 0 Status: OK PackageFile: AGDEX_1.59.0.tar.gz PackageFileSize: 485.9 KiB