Package: AGDEX Version: 1.59.0 Command: rm -rf AGDEX.buildbin-libdir && mkdir AGDEX.buildbin-libdir && /Users/biocbuild/BBS/utils/build-universal.sh AGDEX_1.59.0.tar.gz /Library/Frameworks/R.framework/Resources/bin/R AGDEX.buildbin-libdir StartedAt: 2025-11-21 01:20:30 -0500 (Fri, 21 Nov 2025) EndedAt: 2025-11-21 01:20:59 -0500 (Fri, 21 Nov 2025) EllapsedTime: 28.8 seconds RetCode: 0 Status: OK PackageFile: AGDEX_1.59.0.tgz PackageFileSize: 558.6 KiB