Package: AGDEX Version: 1.57.0 Command: /Library/Frameworks/R.framework/Resources/bin/R CMD INSTALL AGDEX StartedAt: 2025-10-23 15:09:54 -0400 (Thu, 23 Oct 2025) EndedAt: 2025-10-23 15:10:00 -0400 (Thu, 23 Oct 2025) EllapsedTime: 5.6 seconds RetCode: 0 Status: OK