Package: AGDEX Version: 1.57.0 Command: rm -rf AGDEX.buildbin-libdir && mkdir AGDEX.buildbin-libdir && /Users/biocbuild/BBS/utils/build-universal.sh AGDEX_1.57.0.tar.gz /Library/Frameworks/R.framework/Resources/bin/R AGDEX.buildbin-libdir StartedAt: 2025-10-23 22:59:48 -0400 (Thu, 23 Oct 2025) EndedAt: 2025-10-23 22:59:55 -0400 (Thu, 23 Oct 2025) EllapsedTime: 7.2 seconds RetCode: 0 Status: OK PackageFile: AGDEX_1.57.0.tgz PackageFileSize: 560 KiB