Package: ADaCGH2 Version: 2.49.0 Command: chmod a+r ADaCGH2 -R && F:\biocbuild\bbs-3.22-bioc\R\bin\R.exe CMD build --keep-empty-dirs --no-resave-data ADaCGH2 StartedAt: 2025-08-14 18:21:16 -0400 (Thu, 14 Aug 2025) EndedAt: 2025-08-14 18:22:56 -0400 (Thu, 14 Aug 2025) EllapsedTime: 100.0 seconds RetCode: 0 Status: OK PackageFile: ADaCGH2_2.49.0.tar.gz PackageFileSize: 938.6 KiB