Package: ADaCGH2 Version: 2.51.0 Command: /home/biocbuild/bbs-3.23-bioc/R/bin/R CMD INSTALL ADaCGH2 StartedAt: 2025-11-20 15:57:12 -0500 (Thu, 20 Nov 2025) EndedAt: 2025-11-20 15:57:36 -0500 (Thu, 20 Nov 2025) EllapsedTime: 24.2 seconds RetCode: 0 Status: OK