Package: ADaCGH2 Version: 2.51.0 Command: /home/biocbuild/bbs-3.23-bioc/R/bin/R CMD check --install=check:ADaCGH2.install-out.txt --library=/home/biocbuild/bbs-3.23-bioc/R/site-library --timings ADaCGH2_2.51.0.tar.gz StartedAt: 2025-11-20 20:55:04 -0500 (Thu, 20 Nov 2025) EndedAt: 2025-11-20 21:00:19 -0500 (Thu, 20 Nov 2025) EllapsedTime: 315.6 seconds RetCode: 0 Status: OK CheckDir: ADaCGH2.Rcheck Warnings: 0