Package: ADImpute Version: 1.21.0 Command: /home/biocbuild/bbs-3.23-bioc/R/bin/R CMD build --keep-empty-dirs --no-resave-data ADImpute StartedAt: 2025-11-20 16:07:46 -0500 (Thu, 20 Nov 2025) EndedAt: 2025-11-20 16:08:12 -0500 (Thu, 20 Nov 2025) EllapsedTime: 26.0 seconds RetCode: 0 Status: OK PackageFile: ADImpute_1.21.0.tar.gz PackageFileSize: 2.117 MiB