Package: ADImpute Version: 1.21.0 Command: /Library/Frameworks/R.framework/Resources/bin/R CMD INSTALL ADImpute StartedAt: 2025-11-21 15:26:24 -0500 (Fri, 21 Nov 2025) EndedAt: 2025-11-21 15:26:31 -0500 (Fri, 21 Nov 2025) EllapsedTime: 6.5 seconds RetCode: 0 Status: OK