Package: ADImpute Version: 1.21.0 Command: /Library/Frameworks/R.framework/Resources/bin/R CMD build --keep-empty-dirs --no-resave-data ADImpute StartedAt: 2025-11-21 16:02:03 -0500 (Fri, 21 Nov 2025) EndedAt: 2025-11-21 16:02:41 -0500 (Fri, 21 Nov 2025) EllapsedTime: 37.9 seconds RetCode: 0 Status: OK PackageFile: ADImpute_1.21.0.tar.gz PackageFileSize: 2.117 MiB