Package: ADAPT Version: 1.3.0 Command: /home/biocbuild/bbs-3.22-bioc/R/bin/R CMD check --install=check:ADAPT.install-out.txt --library=/home/biocbuild/bbs-3.22-bioc/R/site-library --timings ADAPT_1.3.0.tar.gz StartedAt: 2025-10-20 20:50:08 -0400 (Mon, 20 Oct 2025) EndedAt: 2025-10-20 20:52:38 -0400 (Mon, 20 Oct 2025) EllapsedTime: 150.2 seconds RetCode: 0 Status: OK CheckDir: ADAPT.Rcheck Warnings: 0