Package: ADAPT Version: 1.3.0 Command: /Library/Frameworks/R.framework/Resources/bin/R CMD INSTALL ADAPT StartedAt: 2025-10-01 15:24:35 -0400 (Wed, 01 Oct 2025) EndedAt: 2025-10-01 15:25:03 -0400 (Wed, 01 Oct 2025) EllapsedTime: 27.9 seconds RetCode: 1 Status: ERROR