Package: ADAPT Version: 1.3.0 Command: /Library/Frameworks/R.framework/Resources/bin/R CMD build --keep-empty-dirs --no-resave-data ADAPT StartedAt: 2025-10-02 15:57:50 -0400 (Thu, 02 Oct 2025) EndedAt: 2025-10-02 15:58:17 -0400 (Thu, 02 Oct 2025) EllapsedTime: 26.3 seconds RetCode: 1 Status: ERROR PackageFile: None PackageFileSize: NA