Package: ADAMgui Version: 1.25.0 Command: /home/biocbuild/R/R/bin/R CMD INSTALL ADAMgui StartedAt: 2025-10-02 21:11:15 -0000 (Thu, 02 Oct 2025) EndedAt: 2025-10-02 21:11:53 -0000 (Thu, 02 Oct 2025) EllapsedTime: 38.4 seconds RetCode: 0 Status: OK