Package: ADAMgui Version: 1.25.0 Command: /home/biocbuild/R/R/bin/R CMD build --keep-empty-dirs --no-resave-data ADAMgui StartedAt: 2025-10-02 21:40:46 -0000 (Thu, 02 Oct 2025) EndedAt: 2025-10-02 21:41:38 -0000 (Thu, 02 Oct 2025) EllapsedTime: 52.0 seconds RetCode: 0 Status: OK PackageFile: ADAMgui_1.25.0.tar.gz PackageFileSize: 1.746 MiB