Package: ADAMgui Version: 1.25.0 Command: /home/biocbuild/bbs-3.22-bioc/R/bin/R CMD check --install=check:ADAMgui.install-out.txt --library=/home/biocbuild/bbs-3.22-bioc/R/site-library --timings ADAMgui_1.25.0.tar.gz StartedAt: 2025-09-29 21:11:29 -0400 (Mon, 29 Sep 2025) EndedAt: 2025-09-29 21:14:59 -0400 (Mon, 29 Sep 2025) EllapsedTime: 209.3 seconds RetCode: 0 Status: OK CheckDir: ADAMgui.Rcheck Warnings: 0