Package: ADAMgui Version: 1.27.0 Command: /home/biocbuild/bbs-3.23-bioc/R/bin/R CMD INSTALL ADAMgui StartedAt: 2025-11-20 15:42:07 -0500 (Thu, 20 Nov 2025) EndedAt: 2025-11-20 15:42:35 -0500 (Thu, 20 Nov 2025) EllapsedTime: 28.2 seconds RetCode: 0 Status: OK