Package: ADAMgui Version: 1.27.0 Command: /home/biocbuild/bbs-3.23-bioc/R/bin/R CMD check --install=check:ADAMgui.install-out.txt --library=/home/biocbuild/bbs-3.23-bioc/R/site-library --timings ADAMgui_1.27.0.tar.gz StartedAt: 2025-11-21 20:54:30 -0500 (Fri, 21 Nov 2025) EndedAt: 2025-11-21 20:57:58 -0500 (Fri, 21 Nov 2025) EllapsedTime: 208.4 seconds RetCode: 0 Status: OK CheckDir: ADAMgui.Rcheck Warnings: 0