Package: ADAM Version: 1.25.0 Command: /home/biocbuild/R/R/bin/R CMD build --keep-empty-dirs --no-resave-data ADAM StartedAt: 2025-10-23 21:37:17 -0000 (Thu, 23 Oct 2025) EndedAt: 2025-10-23 21:38:14 -0000 (Thu, 23 Oct 2025) EllapsedTime: 57.0 seconds RetCode: 0 Status: OK PackageFile: ADAM_1.25.0.tar.gz PackageFileSize: 376.2 KiB