Package: ADAM Version: 1.25.0 Command: /home/biocbuild/bbs-3.22-bioc/R/bin/R CMD check --install=check:ADAM.install-out.txt --library=/home/biocbuild/bbs-3.22-bioc/R/site-library --timings ADAM_1.25.0.tar.gz StartedAt: 2025-10-14 20:55:25 -0400 (Tue, 14 Oct 2025) EndedAt: 2025-10-14 20:58:40 -0400 (Tue, 14 Oct 2025) EllapsedTime: 195.3 seconds RetCode: 0 Status: OK CheckDir: ADAM.Rcheck Warnings: 0