Package: ADAM Version: 1.27.0 Command: /home/biocbuild/bbs-3.23-bioc/R/bin/R CMD INSTALL ADAM StartedAt: 2025-11-05 15:45:58 -0500 (Wed, 05 Nov 2025) EndedAt: 2025-11-05 15:46:30 -0500 (Wed, 05 Nov 2025) EllapsedTime: 32.4 seconds RetCode: 0 Status: OK