Package: ADAM Version: 1.27.0 Command: /home/biocbuild/bbs-3.23-bioc/R/bin/R CMD build --keep-empty-dirs --no-resave-data ADAM StartedAt: 2025-11-05 16:14:00 -0500 (Wed, 05 Nov 2025) EndedAt: 2025-11-05 16:14:45 -0500 (Wed, 05 Nov 2025) EllapsedTime: 45.1 seconds RetCode: 0 Status: OK PackageFile: ADAM_1.27.0.tar.gz PackageFileSize: 321.1 KiB