Package: ACME Version: 2.67.0 Command: /home/biocbuild/bbs-3.23-bioc/R/bin/R CMD INSTALL ACME StartedAt: 2025-11-20 15:11:46 -0500 (Thu, 20 Nov 2025) EndedAt: 2025-11-20 15:11:51 -0500 (Thu, 20 Nov 2025) EllapsedTime: 4.7 seconds RetCode: 0 Status: OK