Package: ACME Version: 2.67.0 Command: /home/biocbuild/bbs-3.23-bioc/R/bin/R CMD build --keep-empty-dirs --no-resave-data ACME StartedAt: 2025-11-20 16:07:36 -0500 (Thu, 20 Nov 2025) EndedAt: 2025-11-20 16:07:57 -0500 (Thu, 20 Nov 2025) EllapsedTime: 21.0 seconds RetCode: 0 Status: OK PackageFile: ACME_2.67.0.tar.gz PackageFileSize: 9.91 MiB