Package: ACME Version: 2.65.0 Command: /Library/Frameworks/R.framework/Resources/bin/R CMD INSTALL ACME StartedAt: 2025-10-14 15:14:39 -0400 (Tue, 14 Oct 2025) EndedAt: 2025-10-14 15:14:49 -0400 (Tue, 14 Oct 2025) EllapsedTime: 9.7 seconds RetCode: 0 Status: OK