Package: ACME Version: 2.65.0 Command: /Library/Frameworks/R.framework/Resources/bin/R CMD INSTALL ACME StartedAt: 2025-09-29 15:06:46 -0400 (Mon, 29 Sep 2025) EndedAt: 2025-09-29 15:06:49 -0400 (Mon, 29 Sep 2025) EllapsedTime: 2.9 seconds RetCode: 0 Status: OK