Package: ACME Version: 2.66.0 Maintainer: Sean Davis MaintainerEmail: sdavis2 at mail.nih.gov git_url: https://git.bioconductor.org/packages/ACME git_branch: RELEASE_3_22 git_last_commit: 61ddf84 git_last_commit_date: 2025-10-29 09:59:16 -0400 (Wed, 29 Oct 2025)